BEGIN:VCALENDAR
PRODID:-//eluceo/ical//2.0/EN
VERSION:2.0
CALSCALE:GREGORIAN
BEGIN:VEVENT
UID:341daaf8b082701d1c65094daadcc32f
DTSTAMP:20260421T173525Z
SUMMARY:Metaverse
DESCRIPTION:Talare: David Bundi
URL:https://rczb.ch/sv/agenda/show/148425
DTSTART;TZID=Europe/Zurich:20230209T193000
DTEND;TZID=Europe/Zurich:20230209T213000
LOCATION:Cafe Bar Black 1966
CATEGORIES:Rotary
END:VEVENT
BEGIN:VTIMEZONE
TZID:Europe/Zurich
BEGIN:STANDARD
DTSTART:20230209T193000
TZNAME:CET
TZOFFSETTO:+0100
TZOFFSETFROM:+0100
END:STANDARD
END:VTIMEZONE
END:VCALENDAR
