BEGIN:VCALENDAR
PRODID:-//eluceo/ical//2.0/EN
VERSION:2.0
CALSCALE:GREGORIAN
BEGIN:VEVENT
UID:d5bf9eae327f8cd3c1a0b007918fc405
DTSTAMP:20260422T042012Z
SUMMARY:"Die Proteinwende"
DESCRIPTION:Relatore/i: Björn Witte - CEO Blue Horizon
URL:https://rczb.ch/it/agenda/show/148419
DTSTART;TZID=Europe/Zurich:20230126T193000
DTEND;TZID=Europe/Zurich:20230126T213000
LOCATION:Cafe Bar Black 1966
CATEGORIES:Rotary
END:VEVENT
BEGIN:VTIMEZONE
TZID:Europe/Zurich
BEGIN:STANDARD
DTSTART:20230126T193000
TZNAME:CET
TZOFFSETTO:+0100
TZOFFSETFROM:+0100
END:STANDARD
END:VTIMEZONE
END:VCALENDAR
