BEGIN:VCALENDAR
PRODID:-//eluceo/ical//2.0/EN
VERSION:2.0
CALSCALE:GREGORIAN
BEGIN:VEVENT
UID:a49d7d2e6157bb04553433b9c3111d93
DTSTAMP:20260422T094914Z
SUMMARY:Plaudermeeting (Verschoben: IPA-Junioren-Projekt 2020/21 in Albanie
 n)
DESCRIPTION:Sito web: https://www.black1966.ch/\nRelatore/i: Priyanka Safft
  Bhoyroo 
URL:https://rczb.ch/it/agenda/show/139844
DTSTART;TZID=Europe/Zurich:20220623T070000
DTEND;TZID=Europe/Zurich:20220623T080000
LOCATION:Cafe Bar Black1966\, Färberstrasse 6\, 8008 Zürich
CATEGORIES:Rotary
END:VEVENT
BEGIN:VTIMEZONE
TZID:Europe/Zurich
BEGIN:DAYLIGHT
DTSTART:20220623T070000
TZNAME:CEST
TZOFFSETTO:+0200
TZOFFSETFROM:+0200
END:DAYLIGHT
END:VTIMEZONE
END:VCALENDAR
