BEGIN:VCALENDAR
PRODID:-//eluceo/ical//2.0/EN
VERSION:2.0
CALSCALE:GREGORIAN
BEGIN:VEVENT
UID:a7fb9e34852b27c6baab7766db7e71d5
DTSTAMP:20260421T190900Z
SUMMARY:Mikroroboter in der Medizin
DESCRIPTION:Conférencier(s): Prof. Simone Schürle-Finke
URL:https://rczb.ch/fr/agenda/show/143276
DTSTART;TZID=Europe/Zurich:20221215T193000
DTEND;TZID=Europe/Zurich:20221215T213000
LOCATION:Café Bar Black 1966\, Zürich
CATEGORIES:Rotary
END:VEVENT
BEGIN:VTIMEZONE
TZID:Europe/Zurich
BEGIN:STANDARD
DTSTART:20221215T193000
TZNAME:CET
TZOFFSETTO:+0100
TZOFFSETFROM:+0100
END:STANDARD
END:VTIMEZONE
END:VCALENDAR
