BEGIN:VCALENDAR
PRODID:-//eluceo/ical//2.0/EN
VERSION:2.0
CALSCALE:GREGORIAN
BEGIN:VEVENT
UID:6f1d8856ba58793fe5ea3a2c07630f18
DTSTAMP:20260422T082347Z
SUMMARY:Digitalisierung in der globalen Logistik: Praktische Erfahrungen
DESCRIPTION:Site internet: https://teams.microsoft.com/l/meetup-join/19%3am
 eeting_NzE4OTQ5MTAtZGVkNC00ZjdiLThlNWUtMzY4MDkxZTIzOGE1%40thread.v2/0?cont
 ext=%7b%22Tid%22%3a%2236da45f1-dd2c-4d1f-af13-5abe46b99921%22%2c%22Oid%22%
 3a%22b10bba4f-c7b7-49fa-b398-5bc53a2ac687%22%7d
URL:https://rczb.ch/fr/agenda/show/135769
DTSTART;TZID=Europe/Zurich:20220210T193000
DTEND;TZID=Europe/Zurich:20220210T213000
LOCATION:AMERON Zürich Bellerive au Lac\, Utoquai 47\, 8008 Zürich\, Schw
 eiz
CATEGORIES:Rotary
END:VEVENT
BEGIN:VTIMEZONE
TZID:Europe/Zurich
BEGIN:STANDARD
DTSTART:20220210T193000
TZNAME:CET
TZOFFSETTO:+0100
TZOFFSETFROM:+0100
END:STANDARD
END:VTIMEZONE
END:VCALENDAR
