BEGIN:VCALENDAR
PRODID:-//eluceo/ical//2.0/EN
VERSION:2.0
CALSCALE:GREGORIAN
BEGIN:VEVENT
UID:570f59ca08e6511d5400d947ce93ac41
DTSTAMP:20260423T102541Z
SUMMARY:Plastische\, Rekonstruktive und Ästhetische Chirurgie
DESCRIPTION:Sitio web: https://rivr.ch/\nOrador(es): Dr. Inja AllemannPlast
 ische\, Rekonstruktive und Ästhetische Chirurgie- was ist heute möglich?
  Wo sind die Grenzen?
URL:https://rczb.ch/es/agenda/show/122808
DTSTART;TZID=Europe/Zurich:20210211T193000
DTEND;TZID=Europe/Zurich:20210211T203000
LOCATION:Zoom
CATEGORIES:Rotary
END:VEVENT
BEGIN:VTIMEZONE
TZID:Europe/Zurich
BEGIN:STANDARD
DTSTART:20210211T193000
TZNAME:CET
TZOFFSETTO:+0100
TZOFFSETFROM:+0100
END:STANDARD
END:VTIMEZONE
END:VCALENDAR
