BEGIN:VCALENDAR
PRODID:-//eluceo/ical//2.0/EN
VERSION:2.0
CALSCALE:GREGORIAN
BEGIN:VEVENT
UID:f3d22f81cc29183b4db70463b9955d65
DTSTAMP:20260423T102806Z
SUMMARY:Geldwäscherei im Kunsthandel
DESCRIPTION:Orador(es): Ralph Wyss präsentiert das Thema Geldwäscherei im
  Kunsthandel.&nbsp\;&nbsp\;Eine Nische der Geldwäscherei die als Nebenkul
 isse boomt. Einblicke in diese Welt durch den Geldwäscherei Experten Ralp
 h Wyss.
URL:https://rczb.ch/es/agenda/show/122806
DTSTART;TZID=Europe/Zurich:20210204T193000
DTEND;TZID=Europe/Zurich:20210204T203000
LOCATION:Zoom Event
CATEGORIES:Rotary
END:VEVENT
BEGIN:VTIMEZONE
TZID:Europe/Zurich
BEGIN:STANDARD
DTSTART:20210204T193000
TZNAME:CET
TZOFFSETTO:+0100
TZOFFSETFROM:+0100
END:STANDARD
END:VTIMEZONE
END:VCALENDAR
