BEGIN:VCALENDAR
PRODID:-//eluceo/ical//2.0/EN
VERSION:2.0
CALSCALE:GREGORIAN
BEGIN:VEVENT
UID:6d473f6b559ad29bf7c0bbc924922a2f
DTSTAMP:20260420T214325Z
SUMMARY:Frühlingsdinner 2022
DESCRIPTION:Website: https://www.pflugstein.ch/
URL:https://rczb.ch/en/agenda/show/130110
DTSTART;TZID=Europe/Zurich:20220519T190000
DTEND;TZID=Europe/Zurich:20220519T230000
LOCATION:Restaurant zum Pflugstein\, Pflugsteinstrasse 71\, 8703 Erlenbach
CATEGORIES:Rotary
END:VEVENT
BEGIN:VTIMEZONE
TZID:Europe/Zurich
BEGIN:DAYLIGHT
DTSTART:20220519T190000
TZNAME:CEST
TZOFFSETTO:+0200
TZOFFSETFROM:+0200
END:DAYLIGHT
END:VTIMEZONE
END:VCALENDAR
