BEGIN:VCALENDAR
PRODID:-//eluceo/ical//2.0/EN
VERSION:2.0
CALSCALE:GREGORIAN
BEGIN:VEVENT
UID:6072d56e170fa3b9b2afedc9b2fea7cd
DTSTAMP:20260424T070120Z
SUMMARY:Treuhanddienst Pro Senectute Kanton Zürich
DESCRIPTION:Referenten/innen: Michaela WeberSozialberaterin
URL:https://rczb.ch/de/agenda/show/148418
DTSTART;TZID=Europe/Zurich:20230119T070000
DTEND;TZID=Europe/Zurich:20230119T080000
LOCATION:Cafe Bar Black 1966
CATEGORIES:Rotary
END:VEVENT
BEGIN:VTIMEZONE
TZID:Europe/Zurich
BEGIN:STANDARD
DTSTART:20230119T070000
TZNAME:CET
TZOFFSETTO:+0100
TZOFFSETFROM:+0100
END:STANDARD
END:VTIMEZONE
END:VCALENDAR
