BEGIN:VCALENDAR
PRODID:-//eluceo/ical//2.0/EN
VERSION:2.0
CALSCALE:GREGORIAN
BEGIN:VEVENT
UID:29142577a9f7ebb7230e448e09a20391
DTSTAMP:20260420T090634Z
SUMMARY:NFTs und ihre Anwendungen in der Versicherungs- und Kunstindustrie
DESCRIPTION:Referenten/innen: Andra-Maria Maute
URL:https://rczb.ch/de/agenda/show/148415
DTSTART;TZID=Europe/Zurich:20230112T193000
DTEND;TZID=Europe/Zurich:20230112T213000
LOCATION:Cafe Bar Black 1966
CATEGORIES:Rotary
END:VEVENT
BEGIN:VTIMEZONE
TZID:Europe/Zurich
BEGIN:STANDARD
DTSTART:20230112T193000
TZNAME:CET
TZOFFSETTO:+0100
TZOFFSETFROM:+0100
END:STANDARD
END:VTIMEZONE
END:VCALENDAR
